Workbook

Sheet на стенд
A2: Утверждено ___________________ И.В. Компанеец | H2: =A2 -> Утверждено ___________________ И.В. Компанеец
A3: Заведующая МБДОУ д\с «Чебурашка» | H3: =A3 -> Заведующая МБДОУ д\с «Чебурашка»
A6: Меню на 10 Сентября 2026 года | H6: =A6 -> Меню на 10 Сентября 2026 года
A8: Наименование блюда | B8: Масса порции (гр) | E8: Калорийность порции | H8: =A8 -> Наименование блюда | I8: =B8 -> Масса порции (гр) | L8: =E8 -> Калорийность порции
B9: Сад | C9: ОВЗ | D9: Ясли | E9: САД/ОВЗ | F9: ЯСЛИ | I9: Сад | J9: ОВЗ | K9: Ясли | L9: =E9 -> САД/ОВЗ | M9: =F9 -> ЯСЛИ
A10: Завтрак | H10: =A10 -> Завтрак
A11: Каша молочная ячневая жидкая | B11: 200 | C11: 200 | D11: 150 | E11: 265.1 | F11: 198.8 | H11: =A11 -> Каша молочная ячневая жидкая | I11: =B11 -> 200 | J11: =C11 -> 200 | K11: =D11 -> 150 | L11: =E11 -> 265.1 | M11: =F11 -> 198.8
A12: Бутерброд с маслом | B12: 60 | C12: 60 | D12: 47 | E12: 183 | F12: 160 | H12: =A12 -> Бутерброд с маслом | I12: =B12 -> 60 | J12: =C12 -> 60 | K12: =D12 -> 47 | L12: =E12 -> 183 | M12: =F12 -> 160
A13: Чай с сахаром | B13: 180 | C13: 180 | D13: 150 | E13: 50.2 | F13: 41.8 | H13: =A13 -> Чай с сахаром | I13: =B13 -> 180 | J13: =C13 -> 180 | K13: =D13 -> 150 | L13: =E13 -> 50.2 | M13: =F13 -> 41.8
A14: 2й завтрак | H14: =A14 -> 2й завтрак | L14: =E14 -> 0 | M14: =F14 -> 0
A15: Фруктовое пюре + печенье | B15: 0 | C15: 125/20 | D15: 0 | E15: ОВЗ 55/84,5 | F15: 0 | H15: =A15 -> Фруктовое пюре + печенье | I15: =B15 -> 0 | J15: =C15 -> 125/20 | K15: =D15 -> 0 | L15: =E15 -> ОВЗ 55/84,5 | M15: =F15 -> 0
A16: Обед | H16: Обед | L16: =E16 -> 0 | M16: =F16 -> 0
A17: Суп "Харчо" на куринном бульоне | B17: 180 | C17: 180 | D17: 150 | E17: 158 | F17: 132 | H17: =A17 -> Суп "Харчо" на куринном бульоне | I17: =B17 -> 180 | J17: =C17 -> 180 | K17: =D17 -> 150 | L17: =E17 -> 158 | M17: =F17 -> 132
A18: Жаркое по-домашнему из птицы | B18: 180 | C18: 180 | D18: 150 | E18: 261 | F18: 216.8 | H18: =A18 -> Жаркое по-домашнему из птицы | I18: =B18 -> 180 | J18: =C18 -> 180 | K18: =D18 -> 150 | L18: =E18 -> 261 | M18: =F18 -> 216.8
H19: =A19 -> 0 | M19: =F19 -> 0
H20: =A20 -> 0 | I20: =B20 -> 0 | J20: =C20 -> 0 | K20: =D20 -> 0 | L20: =E20 -> 0 | M20: =F20 -> 0
A21: Свежий огурец | B21: 50 | C21: 50 | D21: 30 | E21: 7 | F21: 4.2 | H21: =A21 -> Свежий огурец | I21: =B21 -> 50 | J21: =C21 -> 50 | K21: =D21 -> 30 | L21: =E21 -> 7 | M21: =F21 -> 4.2
A22: Компот из кураги и чернослива | B22: 180 | C22: 180 | D22: 150 | E22: 108 | F22: 90 | H22: =A22 -> Компот из кураги и чернослива | I22: =B22 -> 180 | J22: =C22 -> 180 | K22: =D22 -> 150 | L22: =E22 -> 108 | M22: =F22 -> 90
H23: =A23 -> 0 | I23: =B23 -> 0 | J23: =C23 -> 0 | K23: =D23 -> 0 | L23: =E23 -> 0 | M23: =F23 -> 0
A24: Хлеб ржано-пшеничный/пшеничный | B24: 30/20 | C24: 30/20 | D24: 20/20 | E24: 66,7/48 | F24: 44,5/48 | H24: =A24 -> Хлеб ржано-пшеничный/пшеничный | I24: =B24 -> 30/20 | J24: =C24 -> 30/20 | K24: =D24 -> 20/20 | L24: =E24 -> 66,7/48 | M24: =F24 -> 44,5/48
A25: Полдник | H25: =A25 -> Полдник | L25: =E25 -> 0 | M25: =F25 -> 0
H26: =A26 -> 0 | I26: =B26 -> 0 | J26: =C26 -> 0 | K26: =D26 -> 0 | L26: =E26 -> 0 | M26: =F26 -> 0
A27: Пряник | B27: 35 | C27: 35 | D27: 35 | E27: 143 | F27: 143 | H27: =A27 -> Пряник | I27: =B27 -> 35 | J27: =C27 -> 35 | K27: =D27 -> 35 | L27: =E27 -> 143 | M27: =F27 -> 143
A28: Груши | B28: 150 | C28: 150 | D28: 150 | E28: 70.5 | F28: 70.5 | H28: =A28 -> Груши | I28: =B28 -> 150 | J28: =C28 -> 150 | K28: =D28 -> 150 | L28: =E28 -> 70.5 | M28: =F28 -> 70.5
A29: Ужин | H29: =A29 -> Ужин | L29: =E29 -> 0 | M29: =F29 -> 0
A30: Омлет натуральный | B30: 160 | C30: 160 | D30: 160 | E30: 181.2 | F30: 181.2 | H30: =A30 -> Омлет натуральный | I30: =B30 -> 160 | J30: =C30 -> 160 | K30: =D30 -> 160 | L30: =E30 -> 181.2 | M30: =F30 -> 181.2
A31: Хлеб пшеничный | B31: 30 | C31: 30 | D31: 30 | E31: 55.5 | F31: 55.5 | H31: =A31 -> Хлеб пшеничный | I31: =B31 -> 30 | J31: =C31 -> 30 | K31: =D31 -> 30 | L31: =E31 -> 55.5 | M31: =F31 -> 55.5
H32: =A32 -> 0 | I32: =B32 -> 0 | J32: =C32 -> 0 | K32: =D32 -> 0 | L32: =E32 -> 0 | M32: =F32 -> 0
A33: Чай с сахаром | B33: 180 | C33: 180 | D33: 150 | E33: 50.2 | F33: 41.8 | H33: =A33 -> Чай с сахаром | I33: =B33 -> 180 | J33: =C33 -> 180 | K33: =D33 -> 150 | L33: =E33 -> 50.2 | M33: =F33 -> 41.8

Sheet бракеражный журнал
A1: 10 Сентября 2026
A2: Дата и час изготовления блюда | B2: Время снятия бракеража | C2: Наименование готового блюда | D2: Результаты органолептической оценки качества готовых блюд | H2: Разрешение к реализации блюда, кулинарного изделия | I2: Подписи членов бракеражной комиссии | J2: Результаты взвешивания порционных блюд | K2: Примечание
D3: цвет | E3: консистенция | F3: запах | G3: вкус
C4: Завтрак
C5: ='на стенд'!A11 -> Каша молочная ячневая жидкая
C6: ='на стенд'!A12 -> Бутерброд с маслом
C7: ='на стенд'!A13 -> Чай с сахаром
C8: 2й завтрак
C9: ='на стенд'!A15 -> Фруктовое пюре + печенье
C10: Обед
C11: ='на стенд'!A17 -> Суп "Харчо" на куринном бульоне
C12: ='на стенд'!A18 -> Жаркое по-домашнему из птицы
C13: ='на стенд'!A19 -> 0
C14: ='на стенд'!A20 -> 0
C15: ='на стенд'!A21 -> Свежий огурец
C16: ='на стенд'!A22 -> Компот из кураги и чернослива
C17: ='на стенд'!A23 -> 0
C18: ='на стенд'!A24 -> Хлеб ржано-пшеничный/пшеничный
C20: Полдник
C21: ='на стенд'!A26 -> 0
C22: ='на стенд'!A27 -> Пряник
C23: ='на стенд'!A28 -> Груши
C24: Ужин
C25: ='на стенд'!A30 -> Омлет натуральный
C26: ='на стенд'!A31 -> Хлеб пшеничный
C27: ='на стенд'!A32 -> 0
C28: ='на стенд'!A33 -> Чай с сахаром

Sheet Лист3
